BEGIN:VCALENDAR
VERSION:2.0
PRODID:icalendar-ruby
CALSCALE:GREGORIAN
METHOD:PUBLISH
BEGIN:VEVENT
DTSTAMP:20260426T040824Z
UID:18-898328@greenrunbaptist.com
DTSTART:20261025T160000Z
DTEND:20261025T164500Z
CLASS:PUBLIC
CREATED:20260425T183825
DESCRIPTION:
LAST-MODIFIED:20260425T183825
LOCATION:
SUMMARY:I Peter Sunday School Study
URL;VALUE=URI:https://www.greenrunbaptist.com/events/i-peter-sunday-school-
 study--18/2026-10-25
ATTACH;FILENAME=One-Anothers-Graphic-%284%29.png;FMTTYPE=image/png:https://
 dq5pwpg1q8ru0.cloudfront.net/2025/03/14/14/27/15/db543e4b-03c9-4bae-a2ad-5
 2cf7e981c5d/One-Anothers-Graphic-%25284%2529.png
END:VEVENT
END:VCALENDAR
